BEGIN:VCALENDAR
VERSION:2.0
PRODID:-//wp-events-plugin.com//7.2.3.1//EN
BEGIN:VEVENT
UID:13@oregonems.org
DTSTART;TZID=America/Los_Angeles:20230716T123000
DTEND;TZID=America/Los_Angeles:20230716T123000
DTSTAMP:20230717T192510Z
URL:https://www.oregonems.org/events/heartcode-acls-skills-check/
SUMMARY:AHA Heartcode ACLS Skills Check
DESCRIPTION:This is a skills check only for the AHA Heartcode ACLS.  AHA H
 eartcode ACLS must be completed prior to coming to class.
ATTACH;FMTTYPE=image/jpeg:https://www.oregonems.org/wp-content/uploads/202
 3/06/AHA_LOGO-RGB_rk_LG1.jpg
CATEGORIES:Certificate Classes
LOCATION:DB Learning\, 6675 SW 111th Ave\, Beaverton\, Oregon\, 97006\, Uni
 ted States
X-APPLE-STRUCTURED-LOCATION;VALUE=URI;X-ADDRESS=6675 SW 111th Ave\, Beavert
 on\, Oregon\, 97006\, United States;X-APPLE-RADIUS=100;X-TITLE=DB Learning
 :geo:0,0
END:VEVENT
BEGIN:VTIMEZONE
TZID:America/Los_Angeles
X-LIC-LOCATION:America/Los_Angeles
BEGIN:DAYLIGHT
DTSTART:20230312T030000
TZOFFSETFROM:-0800
TZOFFSETTO:-0700
TZNAME:PDT
END:DAYLIGHT
END:VTIMEZONE
END:VCALENDAR